BEGIN:VCALENDAR
VERSION:2.0
PRODID:-//eventon.com NONSGML v1.0//EN
BEGIN:VEVENT
UID:69e7360983f2c
DTSTAMP:20260421T103209
DTSTART:20250711T153000Z
DTEND:20250711T174500Z
LOCATION:
SUMMARY:Training
DESCRIPTION: Training
END:VEVENT
END:VCALENDAR