BEGIN:VCALENDAR
VERSION:2.0
PRODID:-//eventon.com NONSGML v1.0//EN
BEGIN:VEVENT
UID:69ecbfcc0be5d
DTSTAMP:20260425T152116
DTSTART:20260515T160000Z
DTEND:20260515T173000Z
LOCATION:
SUMMARY:Lichess Online Turnier
DESCRIPTION: https://lichess.org/tournament/XtEMBbZm
END:VEVENT
END:VCALENDAR