BEGIN:VCALENDAR
VERSION:2.0
PRODID:-//eventon.com NONSGML v1.0//EN
BEGIN:VEVENT
UID:69eb6397bb4b2
DTSTAMP:20260424T143535
DTSTART:20260502T220000Z
DTEND:20260503T215900Z
LOCATION:
SUMMARY:Eppinger Jugendopen 2026
DESCRIPTION: Anmeldung
END:VEVENT
END:VCALENDAR